BEGIN:VCALENDAR
VERSION:2.0
PRODID:-//Sevilla Feelings - ECPv6.15.20//NONSGML v1.0//EN
CALSCALE:GREGORIAN
METHOD:PUBLISH
X-ORIGINAL-URL:https://sevillafeelings.com
X-WR-CALDESC:Eventos para Sevilla Feelings
REFRESH-INTERVAL;VALUE=DURATION:PT1H
X-Robots-Tag:noindex
X-PUBLISHED-TTL:PT1H
BEGIN:VTIMEZONE
TZID:UTC
BEGIN:STANDARD
TZOFFSETFROM:+0000
TZOFFSETTO:+0000
TZNAME:UTC
DTSTART:20250101T000000
END:STANDARD
END:VTIMEZONE
BEGIN:VEVENT
DTSTART;TZID=UTC:20260106T090000
DTEND;TZID=UTC:20260106T200000
DTSTAMP:20260424T114110
CREATED:20251124T122933Z
LAST-MODIFIED:20251124T122933Z
UID:1715-1767690000-1767729600@sevillafeelings.com
SUMMARY:Día de Reyes (Epiphany Celebrations)
DESCRIPTION:January 6 marks Spain’s ‘real’ Christmas: Families gather for roscón de reyes (sweet ring cake hiding a baby Jesus figurine—finder buys next year’s cake!)\, gifts from the Magi\, and communal meals in Sevilla’s plazas. Beyond home traditions\, expect pop-up markets\, street performers\, and church masses at the Cathedral—join locals at Plaza del Salvador for free tastings and live music. This low-key yet joyful holiday wraps the festive season with warmth\, reflection\, and that signature Sevillian sweetness—perfect for a relaxed cultural immersion after the parade’s frenzy.
URL:https://sevillafeelings.com/es/event/dia-de-reyes-epiphany-celebrations/
CATEGORIES:Cultural,Holiday
END:VEVENT
END:VCALENDAR