BEGIN:VCALENDAR
VERSION:2.0
PRODID:-//Sevilla Feelings - ECPv6.15.20//NONSGML v1.0//EN
CALSCALE:GREGORIAN
METHOD:PUBLISH
X-ORIGINAL-URL:https://sevillafeelings.com
X-WR-CALDESC:Eventos para Sevilla Feelings
REFRESH-INTERVAL;VALUE=DURATION:PT1H
X-Robots-Tag:noindex
X-PUBLISHED-TTL:PT1H
BEGIN:VTIMEZONE
TZID:UTC
BEGIN:STANDARD
TZOFFSETFROM:+0000
TZOFFSETTO:+0000
TZNAME:UTC
DTSTART:20250101T000000
END:STANDARD
END:VTIMEZONE
BEGIN:VEVENT
DTSTART;TZID=UTC:20260114T210000
DTEND;TZID=UTC:20260114T233000
DTSTAMP:20260423T024636
CREATED:20251124T122944Z
LAST-MODIFIED:20251124T122944Z
UID:1716-1768424400-1768433400@sevillafeelings.com
SUMMARY:Milo J Concert
DESCRIPTION:Argentine urban sensation Milo J brings his ‘La Vida Era Más Corta’ tour to Sevilla on January 14: Expect high-energy trap\, reggaeton\, and heartfelt lyrics from the TikTok star-turned-global hitmaker\, packed with collabs and crowd-surfing vibes at Cartuja Center CITE. This intimate arena show (capacity 3\,000) is a must for Gen Z fans—doors open 8pm\, with pre-show tapas nearby. Milo J’s raw storytelling and beats have sold out Latin America; catch his rising stardom in Sevilla’s electric atmosphere before he hits stadiums!
URL:https://sevillafeelings.com/es/event/milo-j-concert/
CATEGORIES:Concert,Music
END:VEVENT
END:VCALENDAR