BEGIN:VCALENDAR
VERSION:2.0
PRODID:-//Sevilla Feelings - ECPv6.15.20//NONSGML v1.0//EN
CALSCALE:GREGORIAN
METHOD:PUBLISH
X-ORIGINAL-URL:https://sevillafeelings.com
X-WR-CALDESC:Eventos para Sevilla Feelings
REFRESH-INTERVAL;VALUE=DURATION:PT1H
X-Robots-Tag:noindex
X-PUBLISHED-TTL:PT1H
BEGIN:VTIMEZONE
TZID:UTC
BEGIN:STANDARD
TZOFFSETFROM:+0000
TZOFFSETTO:+0000
TZNAME:UTC
DTSTART:20250101T000000
END:STANDARD
END:VTIMEZONE
BEGIN:VEVENT
DTSTART;TZID=UTC:20260116T210000
DTEND;TZID=UTC:20260116T230000
DTSTAMP:20260423T024416
CREATED:20251124T122859Z
LAST-MODIFIED:20251124T122859Z
UID:1717-1768597200-1768604400@sevillafeelings.com
SUMMARY:Xavibo Live Show
DESCRIPTION:Indie-pop darling Xavibo lights up Sala Custom on January 16 with his signature blend of urban poetry and catchy hooks—think introspective tracks from ‘La Noche Eterna’ live\, with guest DJs and a sweaty\, sold-out crowd of 500. This intimate venue in Sevilla’s nightlife hub offers VIP meet-and-greets; arrive early for nearby Triana bars. Xavibo’s emotional depth and stage charisma make this a highlight for Spanish music fans—perfect post-Epiphany unwind with beats that linger into the dawn.
URL:https://sevillafeelings.com/es/event/xavibo-live-show/
CATEGORIES:Concert,Music
END:VEVENT
END:VCALENDAR