BEGIN:VCALENDAR
VERSION:2.0
PRODID:-//Sevilla Feelings - ECPv6.15.20//NONSGML v1.0//EN
CALSCALE:GREGORIAN
METHOD:PUBLISH
X-WR-CALNAME:Sevilla Feelings
X-ORIGINAL-URL:https://sevillafeelings.com
X-WR-CALDESC:Eventos para Sevilla Feelings
REFRESH-INTERVAL;VALUE=DURATION:PT1H
X-Robots-Tag:noindex
X-PUBLISHED-TTL:PT1H
BEGIN:VTIMEZONE
TZID:UTC
BEGIN:STANDARD
TZOFFSETFROM:+0000
TZOFFSETTO:+0000
TZNAME:UTC
DTSTART:20250101T000000
END:STANDARD
END:VTIMEZONE
BEGIN:VEVENT
DTSTART;TZID=UTC:20260606T213000
DTEND;TZID=UTC:20260606T235900
DTSTAMP:20260420T040235
CREATED:20251106T180602Z
LAST-MODIFIED:20251106T180602Z
UID:1687-1780781400-1780790340@sevillafeelings.com
SUMMARY:Alejandro Sanz
DESCRIPTION:Gira 2026 – Estadio La Cartuja
URL:https://sevillafeelings.com/es/event/alejandro-sanz-2/
CATEGORIES:Pop
END:VEVENT
END:VCALENDAR