BEGIN:VCALENDAR
VERSION:2.0
PRODID:-//Sevilla Feelings - ECPv6.15.20//NONSGML v1.0//EN
CALSCALE:GREGORIAN
METHOD:PUBLISH
X-WR-CALNAME:Sevilla Feelings
X-ORIGINAL-URL:https://sevillafeelings.com
X-WR-CALDESC:Events for Sevilla Feelings
REFRESH-INTERVAL;VALUE=DURATION:PT1H
X-Robots-Tag:noindex
X-PUBLISHED-TTL:PT1H
BEGIN:VTIMEZONE
TZID:UTC
BEGIN:STANDARD
TZOFFSETFROM:+0000
TZOFFSETTO:+0000
TZNAME:UTC
DTSTART:20250101T000000
END:STANDARD
END:VTIMEZONE
BEGIN:VEVENT
DTSTART;TZID=UTC:20260226T210000
DTEND;TZID=UTC:20260226T233000
DTSTAMP:20260419T223331
CREATED:20251106T180459Z
LAST-MODIFIED:20251106T180459Z
UID:1686-1772139600-1772148600@sevillafeelings.com
SUMMARY:Mikel Izal
DESCRIPTION:Gira despedida Izal
URL:https://sevillafeelings.com/es/event/mikel-izal-2/
CATEGORIES:Rock
END:VEVENT
BEGIN:VEVENT
DTSTART;TZID=UTC:20260226T210000
DTEND;TZID=UTC:20260226T233000
DTSTAMP:20260419T223331
CREATED:20251106T175627Z
LAST-MODIFIED:20251106T175935Z
UID:1655-1772139600-1772148600@sevillafeelings.com
SUMMARY:Mikel Izal
DESCRIPTION:Gira despedida Izal
URL:https://sevillafeelings.com/event/mikel-izal/
CATEGORIES:Rock
END:VEVENT
END:VCALENDAR