BEGIN:VCALENDAR
VERSION:2.0
PRODID:-//Sevilla Feelings - ECPv6.15.20//NONSGML v1.0//EN
CALSCALE:GREGORIAN
METHOD:PUBLISH
X-WR-CALNAME:Sevilla Feelings
X-ORIGINAL-URL:https://sevillafeelings.com
X-WR-CALDESC:Events for Sevilla Feelings
REFRESH-INTERVAL;VALUE=DURATION:PT1H
X-Robots-Tag:noindex
X-PUBLISHED-TTL:PT1H
BEGIN:VTIMEZONE
TZID:UTC
BEGIN:STANDARD
TZOFFSETFROM:+0000
TZOFFSETTO:+0000
TZNAME:UTC
DTSTART:20250101T000000
END:STANDARD
END:VTIMEZONE
BEGIN:VEVENT
DTSTART;TZID=UTC:20260206T200000
DTEND;TZID=UTC:20260206T220000
DTSTAMP:20260423T105631
CREATED:20251106T175626Z
LAST-MODIFIED:20251106T175934Z
UID:1654-1770408000-1770415200@sevillafeelings.com
SUMMARY:Amaia
DESCRIPTION:Ganadora OT en acústico
URL:https://sevillafeelings.com/event/amaia/
CATEGORIES:Pop
END:VEVENT
BEGIN:VEVENT
DTSTART;TZID=UTC:20260130T230000
DTEND;TZID=UTC:20260131T050000
DTSTAMP:20260423T105631
CREATED:20251124T123449Z
LAST-MODIFIED:20251124T123449Z
UID:1721-1769814000-1769835600@sevillafeelings.com
SUMMARY:Pumuky and I Am Dive DJ Set
DESCRIPTION:Eclectic electronic duo Pumuky and I Am Dive drop beats at Sala X on January 30: Fusion of house\, funk\, and Spanish flair for a late-night dance marathon—think laser lights\, bass drops\, and 600 sweaty fans till dawn. Sala X’s underground cred (Sevilla’s electronic hub) elevates this; doors 11pm. For clubbers\, it’s pure euphoria—pair with pre-game vermouth at nearby bars for an all-night cultural pulse.
URL:https://sevillafeelings.com/event/pumuky-and-i-am-dive-dj-set/
CATEGORIES:Concert,Music
END:VEVENT
BEGIN:VEVENT
DTSTART;TZID=UTC:20260125T083000
DTEND;TZID=UTC:20260125T120000
DTSTAMP:20260423T105631
CREATED:20251124T123455Z
LAST-MODIFIED:20251124T123455Z
UID:1720-1769329800-1769342400@sevillafeelings.com
SUMMARY:Sevilla Half Marathon
DESCRIPTION:Kick off 2026 with Sevilla’s iconic Zurich Half Marathon on January 25: 21.1km flat\, scenic route past Giralda\, Alcázar\, and Guadalquivir River—world-record friendly with 15\,000 runners from 80 countries. Bibs sell out fast; post-race fiesta at Plaza de España includes live music\, massages\, and finisher medals. Whether elite or first-timer\, the supportive crowds and mild winter sun make this a bucket-list run—hydrate and join the orange army!
URL:https://sevillafeelings.com/event/sevilla-half-marathon/
CATEGORIES:Running,Sports
END:VEVENT
BEGIN:VEVENT
DTSTART;TZID=UTC:20260123T213000
DTEND;TZID=UTC:20260123T233000
DTSTAMP:20260423T105631
CREATED:20251124T123501Z
LAST-MODIFIED:20251124T123501Z
UID:1719-1769203800-1769211000@sevillafeelings.com
SUMMARY:Nach Rap Performance
DESCRIPTION:Hip-hop legend Nach storms Sala Custom on January 23 with his ‘Un Día en Suburbia’ set: Lyrical mastery\, social commentary\, and crowd-hyping freestyles in Sevilla’s premier indie venue—over two decades of bars that defined Spanish rap. Capacity 800 means intimate energy; VIP for signed merch. Nach’s poetic flow and stage command make this a cultural rite—follow with late-night churros at nearby spots for that authentic Sevillian nightcap.
URL:https://sevillafeelings.com/event/nach-rap-performance/
CATEGORIES:Concert,Music
END:VEVENT
BEGIN:VEVENT
DTSTART;TZID=UTC:20260116T210000
DTEND;TZID=UTC:20260116T230000
DTSTAMP:20260423T105631
CREATED:20251106T175621Z
LAST-MODIFIED:20251106T175931Z
UID:1651-1768597200-1768604400@sevillafeelings.com
SUMMARY:Xavibo
DESCRIPTION:Indie pop / urban en directo
URL:https://sevillafeelings.com/event/xavibo/
CATEGORIES:Concierto
END:VEVENT
BEGIN:VEVENT
DTSTART;TZID=UTC:20260110T203000
DTEND;TZID=UTC:20260110T223000
DTSTAMP:20260423T105631
CREATED:20251124T123354Z
LAST-MODIFIED:20251124T123354Z
UID:1723-1768077000-1768084200@sevillafeelings.com
SUMMARY:Insólito Festival: La Bien Querida Indie Night
DESCRIPTION:Indie-pop icon La Bien Querida headlines Insólito at Sala Custom on January 10: Ethereal vocals\, synth-driven melancholy\, and sold-out intimacy for 500 fans—her ‘Menina’ hits live with visual poetry. Festival’s winter edition spotlights emerging Spanish talent; VIP lounge access. This poetic night captures Sevilla’s artistic underbelly—end with riverside strolls under lantern lights for magic.
URL:https://sevillafeelings.com/event/insolito-festival-la-bien-querida-indie-night/
CATEGORIES:Festival,Music
END:VEVENT
BEGIN:VEVENT
DTSTART;TZID=UTC:20260107T203000
DTEND;TZID=UTC:20260107T223000
DTSTAMP:20260423T105631
CREATED:20251124T123436Z
LAST-MODIFIED:20251124T123436Z
UID:1722-1767817800-1767825000@sevillafeelings.com
SUMMARY:Insólito Festival Kickoff (Patricia Galván Flamenco)
DESCRIPTION:Insólito Festival opens with flamenco powerhouse Patricia Galván at Auditorio Cartuja on January 7: Passionate cante\, intricate footwork\, and raw emotion in Sevilla’s premier hall—her innovative fusion draws 1\,000+ for an intimate cultural deep-dive. Multi-day series blends tradition with modernity; tickets include drinks. Galván’s fiery spirit embodies Andalusian soul—arrive for pre-show tapas to fuel the duende!
URL:https://sevillafeelings.com/event/insolito-festival-kickoff-patricia-galvan-flamenco/
CATEGORIES:Festival,Music
END:VEVENT
BEGIN:VEVENT
DTSTART;TZID=UTC:20260105T080000
DTEND;TZID=UTC:20260105T170000
DTSTAMP:20260423T105631
CREATED:20251104T184145Z
LAST-MODIFIED:20251130T080149Z
UID:1604-1767600000-1767632400@sevillafeelings.com
SUMMARY:Seville Three Kings Parade 2026
DESCRIPTION:Seville Three Kings Parade 2026 – The Most Magical Night of the Year!\nMark your calendars\, Seville! On Monday\, January 5\, 2026\, Their Majesties the Three Wise Men will ride through the city in the 109th Three Kings Parade\, organized by the Ateneo de Sevilla and officially declared a Tourist Event of National Interest. \nThis year’s theme? 15 brand-new floats inspired by timeless tales: The Little Prince\, The Game of the Goose\, baroque thrones glowing under thousands of LED lights\, and a sky that feels straight out of a fairy tale. \nMeet the 2026 Royal Court\n\nKing Melchior: Iván Bohórquez Domecq (VP of Smartener)\nKing Gaspar: Juan Ignacio Zafra (CaixaBank Regional Director)\nKing Balthazar: Andalusia’s President\, Juanma Moreno\nStar of Illusion: 19-year-old entrepreneur Claudia Herrero Ruiz-Mateos\nGrand Vizier: Salvador Fernández Salas (Chamber of Commerce)\nHerald: Beloved comedian Manu Sánchez\n\nPlus two tribute floats: one for legendary band Cantores de Híspalis and another for the Real Alcázar! \nSchedule & Route 2026  Final\n\nStart: 4:00 PM – University Rectorate (Palos de la Frontera St.)\nFinish: ~10:00 PM – Balthazar returns to Palos de la Frontera\n\n Universidad → Glorieta San Diego → Avda. Cid → Plaza Don Juan de Austria → Menéndez Pelayo → Recaredo → María Auxiliadora → Ronda de Capuchinos → Muñoz León → Resolana → Feria → Correduría → Plaza de Europa → Trajano → Duque → Campana → O’Donnell → Plaza de la Magdalena → Murillo → San Pablo → Reyes Católicos → Puente Isabel II → Altozano → San Jacinto → Esperanza de Triana → República Argentina →Plaza de Cuba → Asunción → Virgen de Luján → Glorieta de las Cigarreras → Puente Los Remedios → Glorieta de los Marineros → Delicias → Avda. de Roma → Palos de la Frontera. \nKid-Friendly Survival Guide\n\nArrive 2–3 hours early – wide sidewalks at Resolana or Plaza de Cuba = stroller heaven.\nDress warm – January nights drop to 41 °F (5 °C). Blankets + hot cocoa = happy kids.\nBig bags – 6 tons of soft candies rain down!\nBeat the crowds – Los Remedios stretch at 8:15 PM = fully lit floats + elbow room.\nFree buses – Tussam runs free radial lines from 3:00 PM. Metro & trains add extra cars.\nSafety hack – write your phone number on your child’s wrist.\n\nRoad Closures & Parking\n\nFrom noon: Palos de la Frontera\, La Rábida\, Chile.\nRolling closures: Recaredo 3:45 PM\, Feria 5:00 PM\, Reyes Católicos 6:00 PM\, Triana 6:30 PM\, Los Remedios 7:00 PM.\nPark & ride: Prado\, Reina Mercedes or Charco de la Pava + free shuttle.\n\nMore Seville Magic on the Blog\n\nBest King Cakes in Seville 2026\nJanuary Weekend Guide\nAlcázar Family Tour\nHotels with Parade Views\n\nImagen JPedro Martín/Youtube
URL:https://sevillafeelings.com/event/seville-three-kings-parade-2026/
ATTACH;FMTTYPE=image/webp:https://sevillafeelings.com/wp-content/uploads/2025/11/cabalgata-reyes-magos-sevilla.webp
END:VEVENT
END:VCALENDAR