BEGIN:VCALENDAR
VERSION:2.0
PRODID:-//Sevilla Feelings - ECPv6.15.20//NONSGML v1.0//EN
CALSCALE:GREGORIAN
METHOD:PUBLISH
X-ORIGINAL-URL:https://sevillafeelings.com
X-WR-CALDESC:Events for Sevilla Feelings
REFRESH-INTERVAL;VALUE=DURATION:PT1H
X-Robots-Tag:noindex
X-PUBLISHED-TTL:PT1H
BEGIN:VTIMEZONE
TZID:UTC
BEGIN:STANDARD
TZOFFSETFROM:+0000
TZOFFSETTO:+0000
TZNAME:UTC
DTSTART:19690101T000000
END:STANDARD
END:VTIMEZONE
BEGIN:VEVENT
DTSTART;TZID=UTC:20260321T203000
DTEND;TZID=UTC:20260321T230000
DTSTAMP:20260419T184409
CREATED:20251106T175636Z
LAST-MODIFIED:20251106T180508Z
UID:1657-1774125000-1774134000@sevillafeelings.com
SUMMARY:Suede
DESCRIPTION:Clásicos britpop 30 aniversario
URL:https://sevillafeelings.com/event/suede/
CATEGORIES:Britpop
END:VEVENT
BEGIN:VEVENT
DTSTART;TZID=UTC:20260226T210000
DTEND;TZID=UTC:20260226T233000
DTSTAMP:20260419T184409
CREATED:20251106T175627Z
LAST-MODIFIED:20251106T175935Z
UID:1655-1772139600-1772148600@sevillafeelings.com
SUMMARY:Mikel Izal
DESCRIPTION:Gira despedida Izal
URL:https://sevillafeelings.com/event/mikel-izal/
CATEGORIES:Rock
END:VEVENT
BEGIN:VEVENT
DTSTART;TZID=UTC:20260215T083000
DTEND;TZID=UTC:20260215T120000
DTSTAMP:20260419T184409
CREATED:20250222T092756Z
LAST-MODIFIED:20251124T123740Z
UID:715-1771144200-1771156800@sevillafeelings.com
SUMMARY:All You Need to Know About the Zurich Maratón de Sevilla 2026
DESCRIPTION:This year’s event promises not only an incredible racing experience but also a chance to immerse yourself in Seville’s rich culture and history. \n\nThe Zurich Maratón de Sevilla 2025 is set to take place on Sunday\, February 15\, 2025\, at 8:30 AM in the vibrant city of Seville\, Spain. This event marks a significant milestone as it celebrates its 41th anniversary\, and all available spots have already been sold out. Here’s your ultimate guide to this fantastic marathon: \nCourse Overview\n– Terrain: The course is relatively flat with minimal elevation changes\, making it one of Europe’s fastest marathons. The average slope is approximately 0%\, with slight variations throughout the route. \nThe flat course of the Zurich Maratón de Sevilla 2026 offers several benefits to runners: \n1. Fast Times: The exceptionally flat terrain\, with no elevation above 10 meters\, makes it one of Europe’s fastest courses. This is ideal for runners aiming for personal bests or seeking to achieve a Boston qualifying time. \n2. Efficient Energy Use: Running on a flat course allows runners to maintain a consistent pace without expending extra energy on inclines or declines. This helps in optimizing performance and reducing fatigue. \n3. Reduced Injury Risk: Flat courses generally reduce the risk of injuries associated with uneven terrain or repetitive strain from constant uphill running. \n4. Psychological Boost: Knowing that the course is conducive to fast times can provide a psychological boost\, helping runners stay motivated and focused throughout the race. \nThe fastest times achieved on the Maraton de Sevilla course are: \nFor men: the current course record is 2:03:27\, set by Deresa Geleta of Ethiopia in 2024. \nFor women: the current course record is 2:18:51\, set by Jackline Chelal of Kenya in 2024. \nThese impressive times showcase why the Zurich Maratón de Sevilla is considered one of the fastest marathons in the world. In the 2024 edition: 12 men ran under 2:08:00\, 24 women ran under 2:28:00 and up to eight national records were set. \nThe exceptional performances have elevated Seville to become the sixth fastest marathon in the world and the flattest course in Europe. \nFestive Atmosphere\nSeville is renowned for its warm hospitality and festive spirit. Expect cheering crowds along the route\, accompanied by music bands and live performances that turn this race into a true celebration. \nThe Zurich Maratón de Sevilla 2025 route passes through some of Seville’s most iconic landmarks\, offering runners a visually stunning experience. Here are the key landmarks along the course: \n– Plaza de España: A majestic square built for the 1929 Ibero-American Exposition. \n– Torre del Oro: A historic tower that served as a watchtower and prison. \n– La Giralda: The bell tower of Seville Cathedral\, an architectural masterpiece. \n– Parque de María Luisa: A beautiful park known for its gardens and monuments. \n– La Maestranza: bullfighting arena. \n— \nWhether you’re racing or spectating\, get ready for an unforgettable day filled with excitement and community spirit! \n 
URL:https://sevillafeelings.com/event/maraton-de-sevilla-2026/
LOCATION:Sevilla\, Sevilla\, Sevilla\, Spain
ATTACH;FMTTYPE=image/jpeg:https://sevillafeelings.com/wp-content/uploads/2025/02/zms24-slider1.jpeg
END:VEVENT
BEGIN:VEVENT
DTSTART;TZID=UTC:20260206T200000
DTEND;TZID=UTC:20260206T220000
DTSTAMP:20260419T184409
CREATED:20251106T175626Z
LAST-MODIFIED:20251106T175934Z
UID:1654-1770408000-1770415200@sevillafeelings.com
SUMMARY:Amaia
DESCRIPTION:Ganadora OT en acústico
URL:https://sevillafeelings.com/event/amaia/
CATEGORIES:Pop
END:VEVENT
BEGIN:VEVENT
DTSTART;TZID=UTC:20260130T230000
DTEND;TZID=UTC:20260131T050000
DTSTAMP:20260419T184409
CREATED:20251124T123449Z
LAST-MODIFIED:20251124T123449Z
UID:1721-1769814000-1769835600@sevillafeelings.com
SUMMARY:Pumuky and I Am Dive DJ Set
DESCRIPTION:Eclectic electronic duo Pumuky and I Am Dive drop beats at Sala X on January 30: Fusion of house\, funk\, and Spanish flair for a late-night dance marathon—think laser lights\, bass drops\, and 600 sweaty fans till dawn. Sala X’s underground cred (Sevilla’s electronic hub) elevates this; doors 11pm. For clubbers\, it’s pure euphoria—pair with pre-game vermouth at nearby bars for an all-night cultural pulse.
URL:https://sevillafeelings.com/event/pumuky-and-i-am-dive-dj-set/
CATEGORIES:Concert,Music
END:VEVENT
BEGIN:VEVENT
DTSTART;TZID=UTC:20260125T083000
DTEND;TZID=UTC:20260125T120000
DTSTAMP:20260419T184409
CREATED:20251124T123455Z
LAST-MODIFIED:20251124T123455Z
UID:1720-1769329800-1769342400@sevillafeelings.com
SUMMARY:Sevilla Half Marathon
DESCRIPTION:Kick off 2026 with Sevilla’s iconic Zurich Half Marathon on January 25: 21.1km flat\, scenic route past Giralda\, Alcázar\, and Guadalquivir River—world-record friendly with 15\,000 runners from 80 countries. Bibs sell out fast; post-race fiesta at Plaza de España includes live music\, massages\, and finisher medals. Whether elite or first-timer\, the supportive crowds and mild winter sun make this a bucket-list run—hydrate and join the orange army!
URL:https://sevillafeelings.com/event/sevilla-half-marathon/
CATEGORIES:Running,Sports
END:VEVENT
BEGIN:VEVENT
DTSTART;TZID=UTC:20260123T213000
DTEND;TZID=UTC:20260123T233000
DTSTAMP:20260419T184409
CREATED:20251124T123501Z
LAST-MODIFIED:20251124T123501Z
UID:1719-1769203800-1769211000@sevillafeelings.com
SUMMARY:Nach Rap Performance
DESCRIPTION:Hip-hop legend Nach storms Sala Custom on January 23 with his ‘Un Día en Suburbia’ set: Lyrical mastery\, social commentary\, and crowd-hyping freestyles in Sevilla’s premier indie venue—over two decades of bars that defined Spanish rap. Capacity 800 means intimate energy; VIP for signed merch. Nach’s poetic flow and stage command make this a cultural rite—follow with late-night churros at nearby spots for that authentic Sevillian nightcap.
URL:https://sevillafeelings.com/event/nach-rap-performance/
CATEGORIES:Concert,Music
END:VEVENT
BEGIN:VEVENT
DTSTART;TZID=UTC:20260116T210000
DTEND;TZID=UTC:20260116T230000
DTSTAMP:20260419T184409
CREATED:20251106T175621Z
LAST-MODIFIED:20251106T175931Z
UID:1651-1768597200-1768604400@sevillafeelings.com
SUMMARY:Xavibo
DESCRIPTION:Indie pop / urban en directo
URL:https://sevillafeelings.com/event/xavibo/
CATEGORIES:Concierto
END:VEVENT
BEGIN:VEVENT
DTSTART;TZID=UTC:20260110T203000
DTEND;TZID=UTC:20260110T223000
DTSTAMP:20260419T184409
CREATED:20251124T123354Z
LAST-MODIFIED:20251124T123354Z
UID:1723-1768077000-1768084200@sevillafeelings.com
SUMMARY:Insólito Festival: La Bien Querida Indie Night
DESCRIPTION:Indie-pop icon La Bien Querida headlines Insólito at Sala Custom on January 10: Ethereal vocals\, synth-driven melancholy\, and sold-out intimacy for 500 fans—her ‘Menina’ hits live with visual poetry. Festival’s winter edition spotlights emerging Spanish talent; VIP lounge access. This poetic night captures Sevilla’s artistic underbelly—end with riverside strolls under lantern lights for magic.
URL:https://sevillafeelings.com/event/insolito-festival-la-bien-querida-indie-night/
CATEGORIES:Festival,Music
END:VEVENT
BEGIN:VEVENT
DTSTART;TZID=UTC:20260107T203000
DTEND;TZID=UTC:20260107T223000
DTSTAMP:20260419T184409
CREATED:20251124T123436Z
LAST-MODIFIED:20251124T123436Z
UID:1722-1767817800-1767825000@sevillafeelings.com
SUMMARY:Insólito Festival Kickoff (Patricia Galván Flamenco)
DESCRIPTION:Insólito Festival opens with flamenco powerhouse Patricia Galván at Auditorio Cartuja on January 7: Passionate cante\, intricate footwork\, and raw emotion in Sevilla’s premier hall—her innovative fusion draws 1\,000+ for an intimate cultural deep-dive. Multi-day series blends tradition with modernity; tickets include drinks. Galván’s fiery spirit embodies Andalusian soul—arrive for pre-show tapas to fuel the duende!
URL:https://sevillafeelings.com/event/insolito-festival-kickoff-patricia-galvan-flamenco/
CATEGORIES:Festival,Music
END:VEVENT
BEGIN:VEVENT
DTSTART;TZID=UTC:20260105T080000
DTEND;TZID=UTC:20260105T170000
DTSTAMP:20260419T184409
CREATED:20251104T184145Z
LAST-MODIFIED:20251130T080149Z
UID:1604-1767600000-1767632400@sevillafeelings.com
SUMMARY:Seville Three Kings Parade 2026
DESCRIPTION:Seville Three Kings Parade 2026 – The Most Magical Night of the Year!\nMark your calendars\, Seville! On Monday\, January 5\, 2026\, Their Majesties the Three Wise Men will ride through the city in the 109th Three Kings Parade\, organized by the Ateneo de Sevilla and officially declared a Tourist Event of National Interest. \nThis year’s theme? 15 brand-new floats inspired by timeless tales: The Little Prince\, The Game of the Goose\, baroque thrones glowing under thousands of LED lights\, and a sky that feels straight out of a fairy tale. \nMeet the 2026 Royal Court\n\nKing Melchior: Iván Bohórquez Domecq (VP of Smartener)\nKing Gaspar: Juan Ignacio Zafra (CaixaBank Regional Director)\nKing Balthazar: Andalusia’s President\, Juanma Moreno\nStar of Illusion: 19-year-old entrepreneur Claudia Herrero Ruiz-Mateos\nGrand Vizier: Salvador Fernández Salas (Chamber of Commerce)\nHerald: Beloved comedian Manu Sánchez\n\nPlus two tribute floats: one for legendary band Cantores de Híspalis and another for the Real Alcázar! \nSchedule & Route 2026  Final\n\nStart: 4:00 PM – University Rectorate (Palos de la Frontera St.)\nFinish: ~10:00 PM – Balthazar returns to Palos de la Frontera\n\n Universidad → Glorieta San Diego → Avda. Cid → Plaza Don Juan de Austria → Menéndez Pelayo → Recaredo → María Auxiliadora → Ronda de Capuchinos → Muñoz León → Resolana → Feria → Correduría → Plaza de Europa → Trajano → Duque → Campana → O’Donnell → Plaza de la Magdalena → Murillo → San Pablo → Reyes Católicos → Puente Isabel II → Altozano → San Jacinto → Esperanza de Triana → República Argentina →Plaza de Cuba → Asunción → Virgen de Luján → Glorieta de las Cigarreras → Puente Los Remedios → Glorieta de los Marineros → Delicias → Avda. de Roma → Palos de la Frontera. \nKid-Friendly Survival Guide\n\nArrive 2–3 hours early – wide sidewalks at Resolana or Plaza de Cuba = stroller heaven.\nDress warm – January nights drop to 41 °F (5 °C). Blankets + hot cocoa = happy kids.\nBig bags – 6 tons of soft candies rain down!\nBeat the crowds – Los Remedios stretch at 8:15 PM = fully lit floats + elbow room.\nFree buses – Tussam runs free radial lines from 3:00 PM. Metro & trains add extra cars.\nSafety hack – write your phone number on your child’s wrist.\n\nRoad Closures & Parking\n\nFrom noon: Palos de la Frontera\, La Rábida\, Chile.\nRolling closures: Recaredo 3:45 PM\, Feria 5:00 PM\, Reyes Católicos 6:00 PM\, Triana 6:30 PM\, Los Remedios 7:00 PM.\nPark & ride: Prado\, Reina Mercedes or Charco de la Pava + free shuttle.\n\nMore Seville Magic on the Blog\n\nBest King Cakes in Seville 2026\nJanuary Weekend Guide\nAlcázar Family Tour\nHotels with Parade Views\n\nImagen JPedro Martín/Youtube
URL:https://sevillafeelings.com/event/seville-three-kings-parade-2026/
ATTACH;FMTTYPE=image/webp:https://sevillafeelings.com/wp-content/uploads/2025/11/cabalgata-reyes-magos-sevilla.webp
END:VEVENT
BEGIN:VEVENT
DTSTART;TZID=UTC:20260419T184409
DTEND;TZID=UTC:20260315T200000
DTSTAMP:20260419T184409
CREATED:20251124T124656Z
LAST-MODIFIED:20251124T124656Z
UID:1752-0-1773604800@sevillafeelings.com
SUMMARY:Flamenco Biennial Opening Gala
DESCRIPTION:The Bienal de Flamenco stirs March 2026 (TBC\, likely mid-month) with opening galas at Teatro de la Maestranza\, pitting 50 cantaores and bailarines in competitions for cante jondo (deep song)—raw soleás and bulerías from consortium-selected talents\, advisory panels of legends like Farruquito. This biennial (since 1984) fuses tradition with innovation; expect seminars and tablaos. Sevilla’s flamenco cradle ignites—saetas preview Semana Santa.
URL:https://sevillafeelings.com/event/flamenco-biennial-opening-gala/
CATEGORIES:Festival
END:VEVENT
BEGIN:VEVENT
DTSTART;TZID=UTC:20260419T184409
DTEND;TZID=UTC:20260322T213000
DTSTAMP:20260419T184409
CREATED:20251124T124653Z
LAST-MODIFIED:20251124T124653Z
UID:1751-0-1774215000@sevillafeelings.com
SUMMARY:Uña y Carne Rumba Revival
DESCRIPTION:Rumba kings Uña y Carne ignite Sala Malandar March 21 with Que la Rumba te Acompañe\, gypsy-flavored sevillanas and rumbas catalanas for 300—palmas clapping to bailaores’ stomps\, sherry flowing like Guadalquivir tides. This Triana bastion pulses with flamenco’s joyous underbelly; encores till midnight.
URL:https://sevillafeelings.com/event/una-y-carne-rumba-revival/
CATEGORIES:Concert
END:VEVENT
BEGIN:VEVENT
DTSTART;TZID=UTC:20260419T184409
DTEND;TZID=UTC:20260321T220000
DTSTAMP:20260419T184409
CREATED:20251124T124652Z
LAST-MODIFIED:20251124T124652Z
UID:1750-0-1774130400@sevillafeelings.com
SUMMARY:Gluecifer Garage Rock Rampage
DESCRIPTION:Norwegian garage rockers Gluecifer rampage through Sala Custom on March 20\, hurling fuzzy riffs and snarling vocals from Respect the Rock for 500 headbangers—pogoing chaos with beer-soaked anthems like ‘I Got a War’. This reunion tour revives ’00s sleaze; expect extended solos and crowd dives. Gluecifer’s Oslo grit fuels Sevilla’s underbelly—mosh then montaditos.
URL:https://sevillafeelings.com/event/gluecifer-garage-rock-rampage/
CATEGORIES:Concert
END:VEVENT
BEGIN:VEVENT
DTSTART;TZID=UTC:20260419T184409
DTEND;TZID=UTC:20260318T210000
DTSTAMP:20260419T184409
CREATED:20251124T124651Z
LAST-MODIFIED:20251124T124651Z
UID:1749-0-1773867600@sevillafeelings.com
SUMMARY:Insólito Festival: Leire Martínez Indie Surge
DESCRIPTION:Insólito Festival surges on March 18 with Leire Martínez (ex-Los Planetas) at Sala Pandora\, her empowering indie-pop from Cuando No Sé Quién Soy igniting 400 fans with soaring hooks and confessional lyrics—think confetti bursts on ‘A Veces’ amid strobe-lit catharsis. This festival chapter celebrates female voices; expect duets and fan-voted sets. Leire’s evolution from indie darling to solo force mirrors Sevilla’s resilient spirit—ignite with vermouth at nearby bars.
URL:https://sevillafeelings.com/event/insolito-festival-leire-martinez-indie-surge/
CATEGORIES:Festival
END:VEVENT
BEGIN:VEVENT
DTSTART;TZID=UTC:20260419T184409
DTEND;TZID=UTC:20260321T203000
DTSTAMP:20260419T184409
CREATED:20251124T124650Z
LAST-MODIFIED:20251124T124650Z
UID:1748-0-1774125000@sevillafeelings.com
SUMMARY:Suede Britpop Resurrection
DESCRIPTION:Suede resurrect Suede’s 30th at Cartuja Center March 21\, Brett Anderson’s androgynous wail threading ‘Animal Nitrate’ and Dog Man Star dramas for 2\,500 in laser-veiled intimacy—B-sides and acoustics bridge ’90s haze to mature fire\, VIP soundchecks whispering secrets. London glam softens in Sevilla’s embrace; post-show rebujitos at Las Golondrinas.
URL:https://sevillafeelings.com/event/suede-britpop-resurrection/
CATEGORIES:Concert
END:VEVENT
BEGIN:VEVENT
DTSTART;TZID=UTC:20260419T184409
DTEND;TZID=UTC:20260321T213000
DTSTAMP:20260419T184409
CREATED:20251124T124649Z
LAST-MODIFIED:20251124T124845Z
UID:1747-0-1774128600@sevillafeelings.com
SUMMARY:Fito y Fitipaldis Aullidos Tour Double Bill
DESCRIPTION:Fito y Fitipaldis howl into Live Sur Stadium March 20-21 on their Aullidos Tour\, marking 25 years with gravelly anthems from El Monte de los Aullidos (fall 2025 release)—20\,000 fans nightly belt ‘Por la Boca Vive el Pez’ as Fito’s raspy timbre and bluesy riffs ignite pyrotechnic crescendos\, guest duets\, and confetti encores under Cartuja stars. From Bilbao’s indie roots to 28-city odyssey\, it’s rock as communal rite; open-air acoustics echo Sevilla’s passion. Pre-game jamón ibérico at Triana Mercado—sway till 1:00 AM in rebujito-fueled bliss.
URL:https://sevillafeelings.com/event/fito-y-fitipaldis-aullidos-tour-double-bill/
END:VEVENT
BEGIN:VEVENT
DTSTART;TZID=UTC:20260419T184409
DTEND;TZID=UTC:20260307T190000
DTSTAMP:20260419T184409
CREATED:20251124T124641Z
LAST-MODIFIED:20251124T124641Z
UID:1746-0-1772910000@sevillafeelings.com
SUMMARY:El Falla en Sevilla Carnival Extravaganza
DESCRIPTION:El Falla en Sevilla erupts March 6-7 at Fibes\, channeling Cádiz Carnival’s irreverent spirit with 68 chirigotas (satirical choirs) delivering 100+ hours of cuplés (witty skits) mocking politicians and pop culture—costumed troupes in feathered hats parade Fibes’ halls\, blending comparsas with Sevilla’s flamenco flair for 81\,000 revelers over 13 editions. Born as Spain’s premier inland carnival post-Cádiz COAC\, it’s a riot of laughter and coplas (verses); expect murgas (masks) roasting 2026 headlines. Fibes’ acoustics amplify the joy—pair with pescaíto frito and rebujitos (sherry-lemonade). This antidote to Semana Santa’s solemnity revives winter’s wit.
URL:https://sevillafeelings.com/event/el-falla-en-sevilla-carnival-extravaganza/
CATEGORIES:Festival
END:VEVENT
BEGIN:VEVENT
DTSTART;TZID=UTC:20260419T184409
DTEND;TZID=UTC:20260403T000000
DTSTAMP:20260419T184409
CREATED:20251124T124638Z
LAST-MODIFIED:20251124T124638Z
UID:1745-0-1775174400@sevillafeelings.com
SUMMARY:Viernes Santo El Silencio (Good Friday Procession)
DESCRIPTION:Viernes Santo (April 3) eclipses in El Silencio’s wordless requiem\, 1\,500 ebony-robed nazarenos ferrying crucifixion pasos through alleys sans capillas—only footfalls\, bell peals\, and stifled sobs mark the 8-hour madrugá. The Cristo de la Buena Muerte’s agonized realism halts for balcony saetas\, flamenco’s grief knifing the void like Trappist silences from the 13th century. Purple esclavos badge solidarity amid 200\,000 mourners; dawn’s light on the Virgin’s veil whispers redemption. Sevilla’s breath holds in this temporal suspension—break with honeyed torrijas at nunneries like Santa Clara. Silencio routes demand reverence; it’s faith’s starkest mirror.
URL:https://sevillafeelings.com/event/viernes-santo-el-silencio-good-friday-procession/
CATEGORIES:Parade
END:VEVENT
BEGIN:VEVENT
DTSTART;TZID=UTC:20260419T184409
DTEND;TZID=UTC:20260403T180000
DTSTAMP:20260419T184409
CREATED:20251124T124637Z
LAST-MODIFIED:20251124T124637Z
UID:1744-0-1775239200@sevillafeelings.com
SUMMARY:Jueves Santo Oración en el Huerto (Maundy Thursday Procession)
DESCRIPTION:Jueves Santo (April 2) descends into Gethsemane’s shadow with Oración en el Huerto processions\, where violet-robed nazarenos bear thorn-crowned pasos wreathed in olives and silver lanterns along the Guadalquivir’s banks—costaleros strain to marchas fúnebres from 50 bands\, evoking Christ’s sweat of blood. Over 20\,000 in this dusk-to-dawn vigil\, rooted in 13th-century monastic velás\, culminate in besamanos where pilgrims queue to kiss the Virgin’s hand in tearful vows. Incense curls with jasmine; streets hush to whispers and bell tolls. Sevilla becomes a confessional under lantern glow—end with potaje de vigilia (garbanzo stew) at Santa Paula Convent\, its cloister a haven of reflection. Riverside perches capture the paso’s riverine silhouette; it’s penance’s poetic hush.
URL:https://sevillafeelings.com/event/jueves-santo-oracion-en-el-huerto-maundy-thursday-procession/
CATEGORIES:Parade
END:VEVENT
BEGIN:VEVENT
DTSTART;TZID=UTC:20260419T184409
DTEND;TZID=UTC:20260401T010000
DTSTAMP:20260419T184409
CREATED:20251124T124636Z
LAST-MODIFIED:20251124T124636Z
UID:1743-0-1775005200@sevillafeelings.com
SUMMARY:Miércoles Santo Madrugá (Holy Wednesday Vigil)
DESCRIPTION:Miércoles Santo’s madrugá (March 31–April 1) is Semana Santa’s throbbing heart\, led by the Gran Poder brotherhood’s 3\,000 nazarenos in ivory tunics escorting Juan de Mesa’s brooding Christ (1697) and the Virgin of Macarena—her emerald eyes under a 4m gold-thread manto—through Macarena’s petal-strewn veins. From 1:00 AM\, costaleros’ grunts sync to dirges like ‘Amargura\,’ torches casting shadows on silver canastillas (thrones)\, till balcony saetas unleash flamenco’s anguished wail. Forged in 17th-century plagues\, this 14-hour vigil peaks at the Macarena’s 7:00 AM return\, met with olés and rose avalanches—raw catharsis for Sevilla’s soul. The air hums with myrtle and murmured prayers; fortify with midnight churros con chocolate at Bar El Comercio. Balcony lotteries (€100+) vanish fast; Triana views reflect flames on the Guadalquivir.
URL:https://sevillafeelings.com/event/miercoles-santo-madruga-holy-wednesday-vigil/
CATEGORIES:Parade
END:VEVENT
BEGIN:VEVENT
DTSTART;TZID=UTC:20260419T184409
DTEND;TZID=UTC:20260329T120000
DTSTAMP:20260419T184409
CREATED:20251124T124635Z
LAST-MODIFIED:20251124T124635Z
UID:1742-0-1774785600@sevillafeelings.com
SUMMARY:Domingo de Ramos (Palm Sunday Procession)
DESCRIPTION:Semana Santa dawns on March 29 with the Hermandad de la Borriquita’s procession\, evoking Christ’s Jerusalem triumph as 2\,000 nazarenos in purple velvet wave olive fronds from the Cathedral’s Giralda shadow. Forty-eight costaleros heave the Virgin of Hope paso—a 17th-century silver behemoth with embroidered manto cascading like molten gold—through Santa Cruz’s labyrinth\, marchas like ‘La Entrada en Jerusalén’ swelling to balcony saetas that pierce like arrows of devotion. This 12-hour rite\, tracing to medieval Palm rites\, draws 100\,000 in reverent hush broken by applause; the float’s sway whispers mercy amid jasmine-scented air. Sevilla’s faithful pin esclavos (badges) in solidarity—post-procession\, savor pescaíto frito and manzanilla at Plaza Virgen de los Reyes\, toasting renewal. For elevation\, secure a guided balcony; witness the paso’s emergence as dawn’s first light gilds the Alcázar.
URL:https://sevillafeelings.com/event/domingo-de-ramos-palm-sunday-procession/
CATEGORIES:Parade
END:VEVENT
END:VCALENDAR