BEGIN:VCALENDAR
VERSION:2.0
PRODID:-//Sevilla Feelings - ECPv6.15.20//NONSGML v1.0//EN
CALSCALE:GREGORIAN
METHOD:PUBLISH
X-WR-CALNAME:Sevilla Feelings
X-ORIGINAL-URL:https://sevillafeelings.com
X-WR-CALDESC:Events for Sevilla Feelings
REFRESH-INTERVAL;VALUE=DURATION:PT1H
X-Robots-Tag:noindex
X-PUBLISHED-TTL:PT1H
BEGIN:VTIMEZONE
TZID:UTC
BEGIN:STANDARD
TZOFFSETFROM:+0000
TZOFFSETTO:+0000
TZNAME:UTC
DTSTART:19690101T000000
END:STANDARD
END:VTIMEZONE
BEGIN:VEVENT
DTSTART;TZID=UTC:20260422T180634
DTEND;TZID=UTC:20260315T200000
DTSTAMP:20260422T180634
CREATED:20251124T124656Z
LAST-MODIFIED:20251124T124656Z
UID:1752-0-1773604800@sevillafeelings.com
SUMMARY:Flamenco Biennial Opening Gala
DESCRIPTION:The Bienal de Flamenco stirs March 2026 (TBC\, likely mid-month) with opening galas at Teatro de la Maestranza\, pitting 50 cantaores and bailarines in competitions for cante jondo (deep song)—raw soleás and bulerías from consortium-selected talents\, advisory panels of legends like Farruquito. This biennial (since 1984) fuses tradition with innovation; expect seminars and tablaos. Sevilla’s flamenco cradle ignites—saetas preview Semana Santa.
URL:https://sevillafeelings.com/event/flamenco-biennial-opening-gala/
CATEGORIES:Festival
END:VEVENT
BEGIN:VEVENT
DTSTART;TZID=UTC:20260422T180634
DTEND;TZID=UTC:20260307T190000
DTSTAMP:20260422T180634
CREATED:20251124T124641Z
LAST-MODIFIED:20251124T124641Z
UID:1746-0-1772910000@sevillafeelings.com
SUMMARY:El Falla en Sevilla Carnival Extravaganza
DESCRIPTION:El Falla en Sevilla erupts March 6-7 at Fibes\, channeling Cádiz Carnival’s irreverent spirit with 68 chirigotas (satirical choirs) delivering 100+ hours of cuplés (witty skits) mocking politicians and pop culture—costumed troupes in feathered hats parade Fibes’ halls\, blending comparsas with Sevilla’s flamenco flair for 81\,000 revelers over 13 editions. Born as Spain’s premier inland carnival post-Cádiz COAC\, it’s a riot of laughter and coplas (verses); expect murgas (masks) roasting 2026 headlines. Fibes’ acoustics amplify the joy—pair with pescaíto frito and rebujitos (sherry-lemonade). This antidote to Semana Santa’s solemnity revives winter’s wit.
URL:https://sevillafeelings.com/event/el-falla-en-sevilla-carnival-extravaganza/
CATEGORIES:Festival
END:VEVENT
END:VCALENDAR