BEGIN:VCALENDAR
VERSION:2.0
PRODID:-//Sevilla Feelings - ECPv6.15.20//NONSGML v1.0//EN
CALSCALE:GREGORIAN
METHOD:PUBLISH
X-ORIGINAL-URL:https://sevillafeelings.com
X-WR-CALDESC:Events for Sevilla Feelings
REFRESH-INTERVAL;VALUE=DURATION:PT1H
X-Robots-Tag:noindex
X-PUBLISHED-TTL:PT1H
BEGIN:VTIMEZONE
TZID:UTC
BEGIN:STANDARD
TZOFFSETFROM:+0000
TZOFFSETTO:+0000
TZNAME:UTC
DTSTART:20250101T000000
END:STANDARD
END:VTIMEZONE
BEGIN:VEVENT
DTSTART;TZID=UTC:20260515T170000
DTEND;TZID=UTC:20260516T235900
DTSTAMP:20260420T040824
CREATED:20251106T175637Z
LAST-MODIFIED:20251106T180509Z
UID:1658-1778864400-1778975940@sevillafeelings.com
SUMMARY:Interestelar Sevilla 2026
DESCRIPTION:Besmaya • Carlos Sadness • Crystal Fighters • Xoel López + 12 más
URL:https://sevillafeelings.com/event/interestelar-sevilla-2026/
CATEGORIES:Festival
END:VEVENT
END:VCALENDAR