BEGIN:VCALENDAR
VERSION:2.0
PRODID:-//Sevilla Feelings - ECPv6.15.20//NONSGML v1.0//EN
CALSCALE:GREGORIAN
METHOD:PUBLISH
X-ORIGINAL-URL:https://sevillafeelings.com
X-WR-CALDESC:Events for Sevilla Feelings
REFRESH-INTERVAL;VALUE=DURATION:PT1H
X-Robots-Tag:noindex
X-PUBLISHED-TTL:PT1H
BEGIN:VTIMEZONE
TZID:UTC
BEGIN:STANDARD
TZOFFSETFROM:+0000
TZOFFSETTO:+0000
TZNAME:UTC
DTSTART:20250101T000000
END:STANDARD
END:VTIMEZONE
BEGIN:VEVENT
DTSTART;TZID=UTC:20260926T190000
DTEND;TZID=UTC:20260926T235900
DTSTAMP:20260419T204148
CREATED:20251106T175654Z
LAST-MODIFIED:20251106T180000Z
UID:1664-1790449200-1790467140@sevillafeelings.com
SUMMARY:Love the 90s Sevilla
DESCRIPTION:Snap! • 2 Unlimited • Vengaboys • más
URL:https://sevillafeelings.com/event/love-the-90s-sevilla/
CATEGORIES:Festival
END:VEVENT
BEGIN:VEVENT
DTSTART;TZID=UTC:20260926T190000
DTEND;TZID=UTC:20260926T235900
DTSTAMP:20260419T204148
CREATED:20251106T180606Z
LAST-MODIFIED:20251106T180606Z
UID:1690-1790449200-1790467140@sevillafeelings.com
SUMMARY:Love the 90s Sevilla
DESCRIPTION:Snap! • 2 Unlimited • Vengaboys • más
URL:https://sevillafeelings.com/es/event/love-the-90s-sevilla-2/
CATEGORIES:Festival
END:VEVENT
END:VCALENDAR