BEGIN:VCALENDAR
VERSION:2.0
PRODID:-//Sevilla Feelings - ECPv6.15.20//NONSGML v1.0//EN
CALSCALE:GREGORIAN
METHOD:PUBLISH
X-WR-CALNAME:Sevilla Feelings
X-ORIGINAL-URL:https://sevillafeelings.com
X-WR-CALDESC:Events for Sevilla Feelings
REFRESH-INTERVAL;VALUE=DURATION:PT1H
X-Robots-Tag:noindex
X-PUBLISHED-TTL:PT1H
BEGIN:VTIMEZONE
TZID:UTC
BEGIN:STANDARD
TZOFFSETFROM:+0000
TZOFFSETTO:+0000
TZNAME:UTC
DTSTART:20250101T000000
END:STANDARD
END:VTIMEZONE
BEGIN:VEVENT
DTSTART;TZID=UTC:20260321T203000
DTEND;TZID=UTC:20260321T230000
DTSTAMP:20260420T004334
CREATED:20251106T175636Z
LAST-MODIFIED:20251106T180508Z
UID:1657-1774125000-1774134000@sevillafeelings.com
SUMMARY:Suede
DESCRIPTION:Clásicos britpop 30 aniversario
URL:https://sevillafeelings.com/event/suede/
CATEGORIES:Britpop
END:VEVENT
END:VCALENDAR