BEGIN:VCALENDAR
VERSION:2.0
PRODID:-//Sevilla Feelings - ECPv6.15.20//NONSGML v1.0//EN
CALSCALE:GREGORIAN
METHOD:PUBLISH
X-ORIGINAL-URL:https://sevillafeelings.com
X-WR-CALDESC:Events for Sevilla Feelings
REFRESH-INTERVAL;VALUE=DURATION:PT1H
X-Robots-Tag:noindex
X-PUBLISHED-TTL:PT1H
BEGIN:VTIMEZONE
TZID:UTC
BEGIN:STANDARD
TZOFFSETFROM:+0000
TZOFFSETTO:+0000
TZNAME:UTC
DTSTART:20250101T000000
END:STANDARD
END:VTIMEZONE
BEGIN:VEVENT
DTSTART;TZID=UTC:20260716T213000
DTEND;TZID=UTC:20260716T235900
DTSTAMP:20260420T041024
CREATED:20251106T175652Z
LAST-MODIFIED:20251106T175958Z
UID:1662-1784237400-1784246340@sevillafeelings.com
SUMMARY:Jamiroquai – Icónica Fest
DESCRIPTION:Funk ácido bajo la Giralda
URL:https://sevillafeelings.com/event/jamiroquai-iconica-fest/
CATEGORIES:Funk
END:VEVENT
BEGIN:VEVENT
DTSTART;TZID=UTC:20260718T213000
DTEND;TZID=UTC:20260718T235900
DTSTAMP:20260420T041024
CREATED:20251106T175653Z
LAST-MODIFIED:20251106T175959Z
UID:1663-1784410200-1784419140@sevillafeelings.com
SUMMARY:Sting – Icónica Fest
DESCRIPTION:Cierre de lujo con Police classics
URL:https://sevillafeelings.com/event/sting-iconica-fest/
CATEGORIES:Rock
END:VEVENT
END:VCALENDAR