BEGIN:VCALENDAR
VERSION:2.0
PRODID:-//Sevilla Feelings - ECPv6.15.20//NONSGML v1.0//EN
CALSCALE:GREGORIAN
METHOD:PUBLISH
X-WR-CALNAME:Sevilla Feelings
X-ORIGINAL-URL:https://sevillafeelings.com
X-WR-CALDESC:Events for Sevilla Feelings
REFRESH-INTERVAL;VALUE=DURATION:PT1H
X-Robots-Tag:noindex
X-PUBLISHED-TTL:PT1H
BEGIN:VTIMEZONE
TZID:UTC
BEGIN:STANDARD
TZOFFSETFROM:+0000
TZOFFSETTO:+0000
TZNAME:UTC
DTSTART:19690101T000000
END:STANDARD
END:VTIMEZONE
BEGIN:VEVENT
DTSTART;TZID=UTC:20260420T055148
DTEND;TZID=UTC:20260329T120000
DTSTAMP:20260420T055148
CREATED:20251124T124635Z
LAST-MODIFIED:20251124T124635Z
UID:1742-0-1774785600@sevillafeelings.com
SUMMARY:Domingo de Ramos (Palm Sunday Procession)
DESCRIPTION:Semana Santa dawns on March 29 with the Hermandad de la Borriquita’s procession\, evoking Christ’s Jerusalem triumph as 2\,000 nazarenos in purple velvet wave olive fronds from the Cathedral’s Giralda shadow. Forty-eight costaleros heave the Virgin of Hope paso—a 17th-century silver behemoth with embroidered manto cascading like molten gold—through Santa Cruz’s labyrinth\, marchas like ‘La Entrada en Jerusalén’ swelling to balcony saetas that pierce like arrows of devotion. This 12-hour rite\, tracing to medieval Palm rites\, draws 100\,000 in reverent hush broken by applause; the float’s sway whispers mercy amid jasmine-scented air. Sevilla’s faithful pin esclavos (badges) in solidarity—post-procession\, savor pescaíto frito and manzanilla at Plaza Virgen de los Reyes\, toasting renewal. For elevation\, secure a guided balcony; witness the paso’s emergence as dawn’s first light gilds the Alcázar.
URL:https://sevillafeelings.com/event/domingo-de-ramos-palm-sunday-procession/
CATEGORIES:Parade
END:VEVENT
BEGIN:VEVENT
DTSTART;TZID=UTC:20260420T055148
DTEND;TZID=UTC:20260401T010000
DTSTAMP:20260420T055148
CREATED:20251124T124636Z
LAST-MODIFIED:20251124T124636Z
UID:1743-0-1775005200@sevillafeelings.com
SUMMARY:Miércoles Santo Madrugá (Holy Wednesday Vigil)
DESCRIPTION:Miércoles Santo’s madrugá (March 31–April 1) is Semana Santa’s throbbing heart\, led by the Gran Poder brotherhood’s 3\,000 nazarenos in ivory tunics escorting Juan de Mesa’s brooding Christ (1697) and the Virgin of Macarena—her emerald eyes under a 4m gold-thread manto—through Macarena’s petal-strewn veins. From 1:00 AM\, costaleros’ grunts sync to dirges like ‘Amargura\,’ torches casting shadows on silver canastillas (thrones)\, till balcony saetas unleash flamenco’s anguished wail. Forged in 17th-century plagues\, this 14-hour vigil peaks at the Macarena’s 7:00 AM return\, met with olés and rose avalanches—raw catharsis for Sevilla’s soul. The air hums with myrtle and murmured prayers; fortify with midnight churros con chocolate at Bar El Comercio. Balcony lotteries (€100+) vanish fast; Triana views reflect flames on the Guadalquivir.
URL:https://sevillafeelings.com/event/miercoles-santo-madruga-holy-wednesday-vigil/
CATEGORIES:Parade
END:VEVENT
BEGIN:VEVENT
DTSTART;TZID=UTC:20260420T055148
DTEND;TZID=UTC:20260403T180000
DTSTAMP:20260420T055148
CREATED:20251124T124637Z
LAST-MODIFIED:20251124T124637Z
UID:1744-0-1775239200@sevillafeelings.com
SUMMARY:Jueves Santo Oración en el Huerto (Maundy Thursday Procession)
DESCRIPTION:Jueves Santo (April 2) descends into Gethsemane’s shadow with Oración en el Huerto processions\, where violet-robed nazarenos bear thorn-crowned pasos wreathed in olives and silver lanterns along the Guadalquivir’s banks—costaleros strain to marchas fúnebres from 50 bands\, evoking Christ’s sweat of blood. Over 20\,000 in this dusk-to-dawn vigil\, rooted in 13th-century monastic velás\, culminate in besamanos where pilgrims queue to kiss the Virgin’s hand in tearful vows. Incense curls with jasmine; streets hush to whispers and bell tolls. Sevilla becomes a confessional under lantern glow—end with potaje de vigilia (garbanzo stew) at Santa Paula Convent\, its cloister a haven of reflection. Riverside perches capture the paso’s riverine silhouette; it’s penance’s poetic hush.
URL:https://sevillafeelings.com/event/jueves-santo-oracion-en-el-huerto-maundy-thursday-procession/
CATEGORIES:Parade
END:VEVENT
BEGIN:VEVENT
DTSTART;TZID=UTC:20260420T055148
DTEND;TZID=UTC:20260403T000000
DTSTAMP:20260420T055148
CREATED:20251124T124638Z
LAST-MODIFIED:20251124T124638Z
UID:1745-0-1775174400@sevillafeelings.com
SUMMARY:Viernes Santo El Silencio (Good Friday Procession)
DESCRIPTION:Viernes Santo (April 3) eclipses in El Silencio’s wordless requiem\, 1\,500 ebony-robed nazarenos ferrying crucifixion pasos through alleys sans capillas—only footfalls\, bell peals\, and stifled sobs mark the 8-hour madrugá. The Cristo de la Buena Muerte’s agonized realism halts for balcony saetas\, flamenco’s grief knifing the void like Trappist silences from the 13th century. Purple esclavos badge solidarity amid 200\,000 mourners; dawn’s light on the Virgin’s veil whispers redemption. Sevilla’s breath holds in this temporal suspension—break with honeyed torrijas at nunneries like Santa Clara. Silencio routes demand reverence; it’s faith’s starkest mirror.
URL:https://sevillafeelings.com/event/viernes-santo-el-silencio-good-friday-procession/
CATEGORIES:Parade
END:VEVENT
END:VCALENDAR