BEGIN:VCALENDAR
VERSION:2.0
PRODID:-//Sevilla Feelings - ECPv6.15.20//NONSGML v1.0//EN
CALSCALE:GREGORIAN
METHOD:PUBLISH
X-WR-CALNAME:Sevilla Feelings
X-ORIGINAL-URL:https://sevillafeelings.com
X-WR-CALDESC:Events for Sevilla Feelings
REFRESH-INTERVAL;VALUE=DURATION:PT1H
X-Robots-Tag:noindex
X-PUBLISHED-TTL:PT1H
BEGIN:VTIMEZONE
TZID:UTC
BEGIN:STANDARD
TZOFFSETFROM:+0000
TZOFFSETTO:+0000
TZNAME:UTC
DTSTART:19690101T000000
END:STANDARD
END:VTIMEZONE
BEGIN:VEVENT
DTSTART;TZID=UTC:20260420T053723
DTEND;TZID=UTC:20260318T210000
DTSTAMP:20260420T053723
CREATED:20251124T124651Z
LAST-MODIFIED:20251124T124651Z
UID:1749-0-1773867600@sevillafeelings.com
SUMMARY:Insólito Festival: Leire Martínez Indie Surge
DESCRIPTION:Insólito Festival surges on March 18 with Leire Martínez (ex-Los Planetas) at Sala Pandora\, her empowering indie-pop from Cuando No Sé Quién Soy igniting 400 fans with soaring hooks and confessional lyrics—think confetti bursts on ‘A Veces’ amid strobe-lit catharsis. This festival chapter celebrates female voices; expect duets and fan-voted sets. Leire’s evolution from indie darling to solo force mirrors Sevilla’s resilient spirit—ignite with vermouth at nearby bars.
URL:https://sevillafeelings.com/event/insolito-festival-leire-martinez-indie-surge/
CATEGORIES:Festival
END:VEVENT
END:VCALENDAR